BEGIN:VCALENDAR
VERSION:2.0
PRODID:-//hacksw/handcal//NONSGML v1.0//EN
BEGIN:VEVENT
SUMMARY:Rando pour tous Pascal Pierre Plate
UID:d9095f08-1edc-44f7-95c5-5f871d285ac3
DTSTART:20260423T063000Z
DTEND:20260423T110000Z
LOCATION:Localisation Chemin de Presles 95340 nointel
CATEGORIES:Sportif
STATUS:
DESCRIPTION:<p><span style="font-size:20px;">Le Jeudi 23 Avril 2026 
 <strong>randonnee pour tous</strong> menee par Pascal pour environ
 10Km avec un denivele positif de 110.</span></p>
 
 <p><span
 style="font-size:20px;">Rendez-vous devant la Mairie de Persan pour
 un covoiturage eventuel depart a 8h30.</span></p>
 
 <p><span
 style="font-size:20px;">Stationnement et depart de la randonnee  a
 l'angle de la rue Pierre Brossolette.</span></p>
 
 <p><span
 style="font-size:20px;">L'inscription sur le site internet est
 obligatoire avec demande ou proposition de
 covoiturage.</span></p>
 
 <p><span style="font-size:20px;">Si vous
 parvenez pas a vous inscrire telephonez a Louis-Guy au 06 26 13 38
 95.</span></p>
 
 <p> </p>
URL;VALUE=URI:https://lacopette.sportsregions.fr/evenements/2026/04/23/rando-pour-tous-pascal-pierre-plate-2426794
END:VEVENT
END:VCALENDAR
