BEGIN:VCALENDAR
VERSION:2.0
PRODID:-//hacksw/handcal//NONSGML v1.0//EN
BEGIN:VEVENT
SUMMARY:Rando Douce Sur les pas des evantailistes
UID:0b1722aa-ec12-4f07-8753-ae9e08d99900
DTSTART:20260429T070000Z
DTEND:20260429T100000Z
LOCATION:Localisation   
CATEGORIES:Sportif
STATUS:
DESCRIPTION:<p><span style="font-size:20px;">Le Mercredi 29 Avril
 2026 radonnee Douce menee par Philippe pour environ 7km au depart du
 parking de l'eglise de Andeville</span></p>
 
 <p><span
 style="font-size:20px;">Rendez-vous devant la Mairie de Persan pour
 un covoiturage eventuel depart 9h.</span></p>
 
 <p><span
 style="font-size:20px;">L'inscription sur le site est obligatoire
 avec demande ou proposition de covoiturage.</span></p>
 
 <p><span
 style="font-size:20px;">Si vous parvenez pas a vous inscrire
 telephonez a Philippe au 06 07 40 34 38.</span></p>
URL;VALUE=URI:https://lacopette.sportsregions.fr/evenements/2026/04/29/rando-douce-sur-les-pas-des-evantailistes-2434313
END:VEVENT
END:VCALENDAR
