BEGIN:VCALENDAR
VERSION:2.0
PRODID:-//hacksw/handcal//NONSGML v1.0//EN
BEGIN:VEVENT
SUMMARY:CONSEIL D'ADMINISTRATION
UID:8cc3c043-57ed-4edd-bf70-325cfdefd884
DTSTART:20260504T123000Z
DTEND:20260504T150000Z
LOCATION:Localisation MAISON DES ASSOCIATIONS  persan
CATEGORIES:Sportif
STATUS:
DESCRIPTION:<p style="text-align:center;">ORDRE DU JOUR DU CONSEIL
 D'ADMINISTRATION DU 4 MAI 2026</p>
 
 <p
 style="text-align:center;"> </p>
 
 <p
 style="text-align:center;"> </p>
 
 <p>1 - Approbation des comptes
 rendu du conseil d'administration et de l'assemblee generale
 extraordinaire du 30 mars 2026</p>
 
 <p>2 - Calendrier des randonnees
 du 11 juin a debut septembre</p>
 
 <p>3 - Retour du sejour a
 Vernon</p>
 
 <p>4 - Preparation de l'evenement "Tous a pied tous a
 velo"</p>
 
 <p>5 - Preparation de la nuit des trophees</p>
 
 <p>6 -
 Questions diverses</p>
 
 <p> </p>
URL;VALUE=URI:https://lacopette.sportsregions.fr/evenements/2026/05/04/conseil-dadministration-2443680
END:VEVENT
END:VCALENDAR
