BEGIN:VCALENDAR
VERSION:2.0
PRODID:-//hacksw/handcal//NONSGML v1.0//EN
BEGIN:VEVENT
SUMMARY:Rando pour tous Marie-Odile Les Bords de l'Oise+Pique-Nique
UID:0cf255ce-1686-45b4-ab33-a1e02f0a9684
DTSTART:20260507T063000Z
DTEND:20260507T110000Z
LOCATION:Localisation Pont de Mery sur Oise 95340 Mery sur Oise
CATEGORIES:Sportif
STATUS:
DESCRIPTION:<p><span style="font-size:20px;">Le Jeudi 7 Mai 2026
 <strong>randonnee pour tous</strong> menee par Marie-Odile pour
 environ 8Km avec Pique-Nique tire du sac.</span></p>
 
 <p><span
 style="font-size:20px;">Rendez-vous devant la Mairie de Persan pour
 un covoiturage eventuel depart 8h30.</span></p>
 
 <p><span
 style="font-size:20px;">Stationnement et depart de la randonnee du
 Pont de Mery sur oise.</span></p>
 
 <p><span
 style="font-size:20px;">L'inscription sur le site internetvest
 obligatoire avec demande ou proposition de
 covoiturage.</span></p>
 
 <p><span style="font-size:20px;">Si vous ne
 parvenez pas a vous inscrire telephonez a Louis-Guy au 06 26 13 38
 95.</span></p>
URL;VALUE=URI:https://lacopette.sportsregions.fr/evenements/2026/05/07/rando-pour-tous-marie-odile-les-bords-de-loisepique-nique-2437244
END:VEVENT
END:VCALENDAR
