BEGIN:VCALENDAR
VERSION:2.0
PRODID:-//hacksw/handcal//NONSGML v1.0//EN
BEGIN:VEVENT
SUMMARY:Rando douce Louis-Guy Port-Monjoie
UID:102c55e4-f284-4e4c-ace6-2c81920b886f
DTSTART:20260518T070000Z
DTEND:20260518T100000Z
LOCATION:Localisation Port monjoie 95340 Noisy sur Oise
CATEGORIES:Sportif
STATUS:
DESCRIPTION:<p><span style="font-size:20px;">Le Lundi 18 Mai 2026
 randonnee Douce menee par Louis-Guy pour environ
 7Km.</span></p>
 
 <p><span style="font-size:20px;">Rendez-vous devant
 la Mairie de Persan pour un covoiturage eventuel depart
 8h30.</span></p>
 
 <p><span style="font-size:20px;">Stationnement et
 depart de la randonnee du parking Port Monjoie.</span></p>
 
 <p><span
 style="font-size:20px;">Si vous ne parvenez pas a vous inscrire
 telephonez a Louis-Guy au 06 26 13 38 95.</span></p>
URL;VALUE=URI:https://lacopette.sportsregions.fr/evenements/2026/05/18/rando-douce-louis-guy-port-monjoie-2437330
END:VEVENT
END:VCALENDAR
