BEGIN:VCALENDAR
VERSION:2.0
PRODID:-//hacksw/handcal//NONSGML v1.0//EN
BEGIN:VEVENT
SUMMARY:Rando dans le parc du Chateau de Versailles et Pique-nique +visite  duTrianon
UID:2fdb9d2d-84c0-44cb-9f17-3520cf63ecc1
DTSTART:20260521T060000Z
DTEND:20260521T150000Z
LOCATION:Localisation chateau de versailles  versailles
CATEGORIES:Sportif
STATUS:
DESCRIPTION:<p><span style="font-size:18px;">Le jeudi 21 Mai 2026
 <strong>rando pour tous</strong> menee par Philippe dans le parc du
 Chateau de Versailles pour environ 8 Km
 +pique-nique+visite</span></p>
 
 <p><span style="font-size:18px;">de
 l'a-m du petit Trianon et du hameau de Marie -Antoinette pour un 
 cout de 12 euros sous presentation de la piece
 d'identite.</span></p>
 
 <p><span style="font-size:18px;">Le
 covoiturage est de 5 euros.</span></p>
 
 <p><span
 style="font-size:18px;">Randez-vous de la Mairie de Persan pour un
 covoiturage eventuel depart 8h30.</span></p>
 
 <p><span
 style="font-size:18px;">L'inscription sur le site internet est
 obligatoire avec demande ou proposition de
 covoiturage.</span></p>
 
 <p><span style="font-size:18px;">Si vous ne
 parvenez pas a vous inscrire telephoner a Louis-Guy au 06 26 13 38
 95.</span></p>
URL;VALUE=URI:https://lacopette.sportsregions.fr/evenements/2026/05/21/rando-dans-le-parc-du-chateau-de-versailles-et-pique-nique-visite-dutrianon-2413668
END:VEVENT
END:VCALENDAR
